Package: BOBaFIT Version: 1.8.0 Command: rm -rf BOBaFIT.buildbin-libdir && mkdir BOBaFIT.buildbin-libdir && E:\biocbuild\bbs-3.19-bioc\R\bin\R.exe CMD INSTALL --build --library=BOBaFIT.buildbin-libdir BOBaFIT_1.8.0.tar.gz StartedAt: 2024-10-17 07:27:00 -0400 (Thu, 17 Oct 2024) EndedAt: 2024-10-17 07:27:58 -0400 (Thu, 17 Oct 2024) EllapsedTime: 58.1 seconds RetCode: 0 Status: OK PackageFile: BOBaFIT_1.8.0.zip PackageFileSize: 2.447 MiB