Package: BPRMeth Version: 1.30.0 Command: rm -rf BPRMeth.buildbin-libdir && mkdir BPRMeth.buildbin-libdir && E:\biocbuild\bbs-3.19-bioc\R\bin\R.exe CMD INSTALL --build --library=BPRMeth.buildbin-libdir BPRMeth_1.30.0.tar.gz StartedAt: 2024-10-17 07:27:04 -0400 (Thu, 17 Oct 2024) EndedAt: 2024-10-17 07:28:44 -0400 (Thu, 17 Oct 2024) EllapsedTime: 99.6 seconds RetCode: 0 Status: OK PackageFile: BPRMeth_1.30.0.zip PackageFileSize: 3.301 MiB