Package: BRAIN Version: 1.50.0 Command: rm -rf BRAIN.buildbin-libdir && mkdir BRAIN.buildbin-libdir && /Users/biocbuild/BBS/utils/build-universal.sh BRAIN_1.50.0.tar.gz /Library/Frameworks/R.framework/Resources/bin/R BRAIN.buildbin-libdir StartedAt: 2024-10-18 17:34:55 -0400 (Fri, 18 Oct 2024) EndedAt: 2024-10-18 17:35:10 -0400 (Fri, 18 Oct 2024) EllapsedTime: 15.0 seconds RetCode: 0 Status: OK PackageFile: BRAIN_1.50.0.tgz PackageFileSize: 2.054 MiB