Package: BRAIN Version: 1.50.0 Command: /Library/Frameworks/R.framework/Resources/bin/R CMD build --keep-empty-dirs --no-resave-data BRAIN StartedAt: 2024-10-16 20:39:43 -0400 (Wed, 16 Oct 2024) EndedAt: 2024-10-16 20:40:10 -0400 (Wed, 16 Oct 2024) EllapsedTime: 27.2 seconds RetCode: 0 Status: OK PackageFile: BRAIN_1.50.0.tar.gz PackageFileSize: 2.009 MiB