Package: BRAIN Version: 1.50.0 Command: /home/biocbuild/R/R-beta-2024-04-15_r86425/bin/R CMD build --keep-empty-dirs --no-resave-data BRAIN StartedAt: 2024-05-08 22:56:24 -0000 (Wed, 08 May 2024) EndedAt: 2024-05-08 22:56:47 -0000 (Wed, 08 May 2024) EllapsedTime: 23.0 seconds RetCode: 0 Status: OK PackageFile: BRAIN_1.50.0.tar.gz PackageFileSize: 1.997 MiB