Package: BRAIN Version: 1.50.0 Command: /home/biocbuild/R/R-beta-2024-04-15_r86425/bin/R CMD check --install=check:BRAIN.install-out.txt --library=/home/biocbuild/R/R-beta-2024-04-15_r86425/site-library --no-vignettes --timings BRAIN_1.50.0.tar.gz StartedAt: 2024-05-09 05:25:08 -0000 (Thu, 09 May 2024) EndedAt: 2024-05-09 05:26:03 -0000 (Thu, 09 May 2024) EllapsedTime: 55.1 seconds RetCode: 0 Status: WARNINGS CheckDir: BRAIN.Rcheck Warnings: 2