Package: BRAIN Version: 1.50.0 Command: /Library/Frameworks/R.framework/Resources/bin/R CMD check --install=check:BRAIN.install-out.txt --library=/Library/Frameworks/R.framework/Resources/library --no-vignettes --timings BRAIN_1.50.0.tar.gz StartedAt: 2024-10-17 02:02:36 -0400 (Thu, 17 Oct 2024) EndedAt: 2024-10-17 02:04:21 -0400 (Thu, 17 Oct 2024) EllapsedTime: 104.9 seconds RetCode: 0 Status: WARNINGS CheckDir: BRAIN.Rcheck Warnings: 2