Package: BRAIN Version: 1.50.0 Command: /home/biocbuild/bbs-3.19-bioc/R/bin/R CMD check --install=check:BRAIN.install-out.txt --library=/home/biocbuild/bbs-3.19-bioc/R/site-library --timings BRAIN_1.50.0.tar.gz StartedAt: 2024-10-16 22:17:56 -0400 (Wed, 16 Oct 2024) EndedAt: 2024-10-16 22:18:47 -0400 (Wed, 16 Oct 2024) EllapsedTime: 51.1 seconds RetCode: 0 Status: WARNINGS CheckDir: BRAIN.Rcheck Warnings: 2