Package: BRAIN Version: 1.50.0 Command: rm -rf BRAIN.buildbin-libdir && mkdir BRAIN.buildbin-libdir && F:\biocbuild\bbs-3.19-bioc\R\bin\R.exe CMD INSTALL --build --library=BRAIN.buildbin-libdir BRAIN_1.50.0.tar.gz StartedAt: 2024-06-27 07:55:17 -0400 (Thu, 27 Jun 2024) EndedAt: 2024-06-27 07:55:34 -0400 (Thu, 27 Jun 2024) EllapsedTime: 17.7 seconds RetCode: 0 Status: OK PackageFile: BRAIN_1.50.0.zip PackageFileSize: 1.945 MiB