Package: BRAIN Version: 1.50.0 Command: rm -rf BRAIN.buildbin-libdir && mkdir BRAIN.buildbin-libdir && E:\biocbuild\bbs-3.19-bioc\R\bin\R.exe CMD INSTALL --build --library=BRAIN.buildbin-libdir BRAIN_1.50.0.tar.gz StartedAt: 2024-10-17 07:27:08 -0400 (Thu, 17 Oct 2024) EndedAt: 2024-10-17 07:27:23 -0400 (Thu, 17 Oct 2024) EllapsedTime: 14.6 seconds RetCode: 0 Status: OK PackageFile: BRAIN_1.50.0.zip PackageFileSize: 1.945 MiB