Package: BRGenomics Version: 1.16.0 Command: /home/biocbuild/R/R-beta-2024-04-15_r86425/bin/R CMD check --install=check:BRGenomics.install-out.txt --library=/home/biocbuild/R/R-beta-2024-04-15_r86425/site-library --no-vignettes --timings BRGenomics_1.16.0.tar.gz StartedAt: 2024-05-09 05:26:40 -0000 (Thu, 09 May 2024) EndedAt: 2024-05-09 06:06:40 -0000 (Thu, 09 May 2024) EllapsedTime: 2400.4 seconds RetCode: None Status: TIMEOUT CheckDir: BRGenomics.Rcheck Warnings: NA