Package: BRGenomics Version: 1.16.0 Command: /Library/Frameworks/R.framework/Resources/bin/R CMD check --install=check:BRGenomics.install-out.txt --library=/Library/Frameworks/R.framework/Resources/library --no-vignettes --timings BRGenomics_1.16.0.tar.gz StartedAt: 2024-06-09 19:09:43 -0400 (Sun, 09 Jun 2024) EndedAt: 2024-06-09 19:49:43 -0400 (Sun, 09 Jun 2024) EllapsedTime: 2400.0 seconds RetCode: None Status: TIMEOUT CheckDir: BRGenomics.Rcheck Warnings: NA