Package: BRGenomics Version: 1.16.1 Command: /Library/Frameworks/R.framework/Resources/bin/R CMD INSTALL BRGenomics StartedAt: 2024-10-16 15:34:31 -0400 (Wed, 16 Oct 2024) EndedAt: 2024-10-16 15:35:48 -0400 (Wed, 16 Oct 2024) EllapsedTime: 76.9 seconds RetCode: 0 Status: OK