Package: BRGenomics Version: 1.16.1 Command: /home/biocbuild/bbs-3.19-bioc/R/bin/R CMD INSTALL BRGenomics StartedAt: 2024-10-16 16:03:53 -0400 (Wed, 16 Oct 2024) EndedAt: 2024-10-16 16:04:24 -0400 (Wed, 16 Oct 2024) EllapsedTime: 31.3 seconds RetCode: 0 Status: OK