Package: BRGenomics Version: 1.16.0 Command: rm -rf BRGenomics.buildbin-libdir && mkdir BRGenomics.buildbin-libdir && F:\biocbuild\bbs-3.19-bioc\R\bin\R.exe CMD INSTALL --build --library=BRGenomics.buildbin-libdir BRGenomics_1.16.0.tar.gz StartedAt: 2024-06-27 07:55:36 -0400 (Thu, 27 Jun 2024) EndedAt: 2024-06-27 07:56:23 -0400 (Thu, 27 Jun 2024) EllapsedTime: 47.2 seconds RetCode: 0 Status: OK PackageFile: BRGenomics_1.16.0.zip PackageFileSize: 3.79 MiB