Package: BSgenome Version: 1.72.0 Command: /home/biocbuild/R/R-beta-2024-04-15_r86425/bin/R CMD build --keep-empty-dirs --no-resave-data BSgenome StartedAt: 2024-05-08 22:58:30 -0000 (Wed, 08 May 2024) EndedAt: 2024-05-08 23:00:39 -0000 (Wed, 08 May 2024) EllapsedTime: 129.2 seconds RetCode: 0 Status: OK PackageFile: BSgenome_1.72.0.tar.gz PackageFileSize: 5.619 MiB