Package: BSgenome Version: 1.72.0 Command: E:\biocbuild\bbs-3.19-bioc\R\bin\R.exe CMD check --no-multiarch --install=check:BSgenome.install-out.txt --library=E:\biocbuild\bbs-3.19-bioc\R\library --no-vignettes --timings BSgenome_1.72.0.tar.gz StartedAt: 2024-10-16 23:32:47 -0400 (Wed, 16 Oct 2024) EndedAt: 2024-10-16 23:43:57 -0400 (Wed, 16 Oct 2024) EllapsedTime: 670.3 seconds RetCode: 0 Status: WARNINGS CheckDir: BSgenome.Rcheck Warnings: 1