Package: BUS Version: 1.60.0 Command: /Library/Frameworks/R.framework/Resources/bin/R CMD build --keep-empty-dirs --no-resave-data BUS StartedAt: 2024-10-16 20:44:30 -0400 (Wed, 16 Oct 2024) EndedAt: 2024-10-16 20:44:42 -0400 (Wed, 16 Oct 2024) EllapsedTime: 12.5 seconds RetCode: 0 Status: OK PackageFile: BUS_1.60.0.tar.gz PackageFileSize: 2.823 MiB