Package: BUS Version: 1.60.0 Command: /Library/Frameworks/R.framework/Resources/bin/R CMD build --keep-empty-dirs --no-resave-data BUS StartedAt: 2024-10-16 17:38:47 -0400 (Wed, 16 Oct 2024) EndedAt: 2024-10-16 17:39:09 -0400 (Wed, 16 Oct 2024) EllapsedTime: 21.6 seconds RetCode: 0 Status: OK PackageFile: BUS_1.60.0.tar.gz PackageFileSize: 2.823 MiB