Package: BUS Version: 1.60.0 Command: rm -rf BUS.buildbin-libdir && mkdir BUS.buildbin-libdir && F:\biocbuild\bbs-3.19-bioc\R\bin\R.exe CMD INSTALL --build --library=BUS.buildbin-libdir BUS_1.60.0.tar.gz StartedAt: 2024-06-27 07:56:06 -0400 (Thu, 27 Jun 2024) EndedAt: 2024-06-27 07:56:16 -0400 (Thu, 27 Jun 2024) EllapsedTime: 9.8 seconds RetCode: 0 Status: OK PackageFile: BUS_1.60.0.zip PackageFileSize: 1.855 MiB