Package: BUS Version: 1.60.0 Command: chmod a+r BUS -R && F:\biocbuild\bbs-3.19-bioc\R\bin\R.exe CMD build --keep-empty-dirs --no-resave-data BUS StartedAt: 2024-06-26 17:34:31 -0400 (Wed, 26 Jun 2024) EndedAt: 2024-06-26 17:34:46 -0400 (Wed, 26 Jun 2024) EllapsedTime: 15.2 seconds RetCode: 0 Status: OK PackageFile: BUS_1.60.0.tar.gz PackageFileSize: 2.72 MiB