Package: BUS Version: 1.60.0 Command: F:\biocbuild\bbs-3.19-bioc\R\bin\R.exe CMD check --no-multiarch --install=check:BUS.install-out.txt --library=F:\biocbuild\bbs-3.19-bioc\R\library --no-vignettes --timings BUS_1.60.0.tar.gz StartedAt: 2024-06-26 23:41:03 -0400 (Wed, 26 Jun 2024) EndedAt: 2024-06-26 23:41:45 -0400 (Wed, 26 Jun 2024) EllapsedTime: 42.0 seconds RetCode: 0 Status: OK CheckDir: BUS.Rcheck Warnings: 0