Package: BUS Version: 1.60.0 Command: rm -rf BUS.buildbin-libdir && mkdir BUS.buildbin-libdir && E:\biocbuild\bbs-3.19-bioc\R\bin\R.exe CMD INSTALL --build --library=BUS.buildbin-libdir BUS_1.60.0.tar.gz StartedAt: 2024-10-17 07:27:58 -0400 (Thu, 17 Oct 2024) EndedAt: 2024-10-17 07:28:07 -0400 (Thu, 17 Oct 2024) EllapsedTime: 8.7 seconds RetCode: 0 Status: OK PackageFile: BUS_1.60.0.zip PackageFileSize: 1.855 MiB