Package: Banksy Version: 1.0.0 Command: rm -rf Banksy.buildbin-libdir && mkdir Banksy.buildbin-libdir && /Users/biocbuild/BBS/utils/build-universal.sh Banksy_1.0.0.tar.gz /Library/Frameworks/R.framework/Resources/bin/R Banksy.buildbin-libdir StartedAt: 2024-10-17 15:40:02 -0400 (Thu, 17 Oct 2024) EndedAt: 2024-10-17 15:41:07 -0400 (Thu, 17 Oct 2024) EllapsedTime: 65.2 seconds RetCode: 0 Status: OK PackageFile: Banksy_1.0.0.tgz PackageFileSize: 4.243 MiB