Package: BaseSpaceR Version: 1.48.0 Command: /Library/Frameworks/R.framework/Resources/bin/R CMD build --keep-empty-dirs --no-resave-data BaseSpaceR StartedAt: 2024-10-16 19:50:54 -0400 (Wed, 16 Oct 2024) EndedAt: 2024-10-16 19:51:18 -0400 (Wed, 16 Oct 2024) EllapsedTime: 24.0 seconds RetCode: 0 Status: OK PackageFile: BaseSpaceR_1.48.0.tar.gz PackageFileSize: 581.1 KiB