Package: BaseSpaceR Version: 1.48.0 Command: /Library/Frameworks/R.framework/Resources/bin/R CMD INSTALL BaseSpaceR StartedAt: 2024-10-16 15:08:54 -0400 (Wed, 16 Oct 2024) EndedAt: 2024-10-16 15:09:12 -0400 (Wed, 16 Oct 2024) EllapsedTime: 17.6 seconds RetCode: 0 Status: OK