Package: BaseSpaceR Version: 1.48.0 Command: rm -rf BaseSpaceR.buildbin-libdir && mkdir BaseSpaceR.buildbin-libdir && F:\biocbuild\bbs-3.19-bioc\R\bin\R.exe CMD INSTALL --build --library=BaseSpaceR.buildbin-libdir BaseSpaceR_1.48.0.tar.gz StartedAt: 2024-06-27 07:51:21 -0400 (Thu, 27 Jun 2024) EndedAt: 2024-06-27 07:51:39 -0400 (Thu, 27 Jun 2024) EllapsedTime: 18.1 seconds RetCode: 0 Status: OK PackageFile: BaseSpaceR_1.48.0.zip PackageFileSize: 592.3 KiB