Package: BaseSpaceR Version: 1.48.0 Command: rm -rf BaseSpaceR.buildbin-libdir && mkdir BaseSpaceR.buildbin-libdir && E:\biocbuild\bbs-3.19-bioc\R\bin\R.exe CMD INSTALL --build --library=BaseSpaceR.buildbin-libdir BaseSpaceR_1.48.0.tar.gz StartedAt: 2024-10-17 07:22:06 -0400 (Thu, 17 Oct 2024) EndedAt: 2024-10-17 07:22:52 -0400 (Thu, 17 Oct 2024) EllapsedTime: 46.7 seconds RetCode: 0 Status: OK PackageFile: BaseSpaceR_1.48.0.zip PackageFileSize: 592.3 KiB