Package: BaseSpaceR Version: 1.48.0 Command: E:\biocbuild\bbs-3.19-bioc\R\bin\R.exe CMD check --no-multiarch --install=check:BaseSpaceR.install-out.txt --library=E:\biocbuild\bbs-3.19-bioc\R\library --no-vignettes --timings BaseSpaceR_1.48.0.tar.gz StartedAt: 2024-10-16 23:00:55 -0400 (Wed, 16 Oct 2024) EndedAt: 2024-10-16 23:01:44 -0400 (Wed, 16 Oct 2024) EllapsedTime: 49.0 seconds RetCode: 0 Status: WARNINGS CheckDir: BaseSpaceR.Rcheck Warnings: 1