Package: BaseSpaceR Version: 1.48.0 Command: E:\biocbuild\bbs-3.19-bioc\R\bin\R.exe CMD INSTALL BaseSpaceR StartedAt: 2024-10-16 16:01:26 -0400 (Wed, 16 Oct 2024) EndedAt: 2024-10-16 16:02:44 -0400 (Wed, 16 Oct 2024) EllapsedTime: 77.9 seconds RetCode: 0 Status: OK