Package: Basic4Cseq Version: 1.40.0 Command: /home/biocbuild/R/R-beta-2024-04-15_r86425/bin/R CMD build --keep-empty-dirs --no-resave-data Basic4Cseq StartedAt: 2024-05-08 22:29:07 -0000 (Wed, 08 May 2024) EndedAt: 2024-05-08 22:30:16 -0000 (Wed, 08 May 2024) EllapsedTime: 69.1 seconds RetCode: 0 Status: OK PackageFile: Basic4Cseq_1.40.0.tar.gz PackageFileSize: 381.3 KiB