Package: Basic4Cseq Version: 1.40.0 Command: /home/biocbuild/R/R-beta-2024-04-15_r86425/bin/R CMD check --install=check:Basic4Cseq.install-out.txt --library=/home/biocbuild/R/R-beta-2024-04-15_r86425/site-library --no-vignettes --timings Basic4Cseq_1.40.0.tar.gz StartedAt: 2024-05-09 04:57:11 -0000 (Thu, 09 May 2024) EndedAt: 2024-05-09 05:02:03 -0000 (Thu, 09 May 2024) EllapsedTime: 292.5 seconds RetCode: 0 Status: OK CheckDir: Basic4Cseq.Rcheck Warnings: 0