Package: Basic4Cseq Version: 1.40.0 Command: rm -rf Basic4Cseq.buildbin-libdir && mkdir Basic4Cseq.buildbin-libdir && F:\biocbuild\bbs-3.19-bioc\R\bin\R.exe CMD INSTALL --build --library=Basic4Cseq.buildbin-libdir Basic4Cseq_1.40.0.tar.gz StartedAt: 2024-06-27 07:51:23 -0400 (Thu, 27 Jun 2024) EndedAt: 2024-06-27 07:52:15 -0400 (Thu, 27 Jun 2024) EllapsedTime: 51.7 seconds RetCode: 0 Status: OK PackageFile: Basic4Cseq_1.40.0.zip PackageFileSize: 777.9 KiB