Package: BatchQC Version: 2.0.0 Command: rm -rf BatchQC.buildbin-libdir && mkdir BatchQC.buildbin-libdir && /Users/biocbuild/BBS/utils/build-universal.sh BatchQC_2.0.0.tar.gz /Library/Frameworks/R.framework/Resources/bin/R BatchQC.buildbin-libdir StartedAt: 2024-10-17 15:40:41 -0400 (Thu, 17 Oct 2024) EndedAt: 2024-10-17 15:42:11 -0400 (Thu, 17 Oct 2024) EllapsedTime: 90.2 seconds RetCode: 0 Status: OK PackageFile: BatchQC_2.0.0.tgz PackageFileSize: 3.671 MiB