Package: BatchQC Version: 2.0.0 Command: /Library/Frameworks/R.framework/Resources/bin/R CMD build --keep-empty-dirs --no-resave-data BatchQC StartedAt: 2024-10-16 17:13:25 -0400 (Wed, 16 Oct 2024) EndedAt: 2024-10-16 17:16:22 -0400 (Wed, 16 Oct 2024) EllapsedTime: 176.9 seconds RetCode: 0 Status: OK PackageFile: BatchQC_2.0.0.tar.gz PackageFileSize: 3.583 MiB