Package: BatchQC Version: 2.0.0 Command: /Library/Frameworks/R.framework/Resources/bin/R CMD check --install=check:BatchQC.install-out.txt --library=/Library/Frameworks/R.framework/Resources/library --no-vignettes --timings BatchQC_2.0.0.tar.gz StartedAt: 2024-10-17 01:25:55 -0400 (Thu, 17 Oct 2024) EndedAt: 2024-10-17 01:42:02 -0400 (Thu, 17 Oct 2024) EllapsedTime: 966.8 seconds RetCode: 0 Status: OK CheckDir: BatchQC.Rcheck Warnings: 0