Package: BatchQC Version: 2.0.0 Command: /home/biocbuild/bbs-3.19-bioc/R/bin/R CMD check --install=check:BatchQC.install-out.txt --library=/home/biocbuild/bbs-3.19-bioc/R/site-library --timings BatchQC_2.0.0.tar.gz StartedAt: 2024-10-16 21:50:47 -0400 (Wed, 16 Oct 2024) EndedAt: 2024-10-16 21:57:42 -0400 (Wed, 16 Oct 2024) EllapsedTime: 414.8 seconds RetCode: 0 Status: OK CheckDir: BatchQC.Rcheck Warnings: 0