Package: BatchQC Version: 2.0.0 Command: rm -rf BatchQC.buildbin-libdir && mkdir BatchQC.buildbin-libdir && E:\biocbuild\bbs-3.19-bioc\R\bin\R.exe CMD INSTALL --build --library=BatchQC.buildbin-libdir BatchQC_2.0.0.tar.gz StartedAt: 2024-10-17 07:22:29 -0400 (Thu, 17 Oct 2024) EndedAt: 2024-10-17 07:23:21 -0400 (Thu, 17 Oct 2024) EllapsedTime: 51.5 seconds RetCode: 0 Status: OK PackageFile: BatchQC_2.0.0.zip PackageFileSize: 2.854 MiB