Package: BatchQC Version: 2.0.0 Command: chmod a+r BatchQC -R && E:\biocbuild\bbs-3.19-bioc\R\bin\R.exe CMD build --keep-empty-dirs --no-resave-data BatchQC StartedAt: 2024-10-16 17:41:04 -0400 (Wed, 16 Oct 2024) EndedAt: 2024-10-16 17:42:40 -0400 (Wed, 16 Oct 2024) EllapsedTime: 96.0 seconds RetCode: 0 Status: OK PackageFile: BatchQC_2.0.0.tar.gz PackageFileSize: 2.76 MiB