Package: BayesKnockdown Version: 1.30.0 Command: /Library/Frameworks/R.framework/Resources/bin/R CMD build --keep-empty-dirs --no-resave-data BayesKnockdown StartedAt: 2024-10-16 19:56:58 -0400 (Wed, 16 Oct 2024) EndedAt: 2024-10-16 19:57:06 -0400 (Wed, 16 Oct 2024) EllapsedTime: 7.8 seconds RetCode: 0 Status: OK PackageFile: BayesKnockdown_1.30.0.tar.gz PackageFileSize: 211.6 KiB