Package: BayesKnockdown Version: 1.30.0 Command: /Library/Frameworks/R.framework/Resources/bin/R CMD INSTALL BayesKnockdown StartedAt: 2024-06-09 15:04:29 -0400 (Sun, 09 Jun 2024) EndedAt: 2024-06-09 15:04:59 -0400 (Sun, 09 Jun 2024) EllapsedTime: 29.8 seconds RetCode: 0 Status: OK