Package: BayesKnockdown Version: 1.30.0 Command: /home/biocbuild/bbs-3.19-bioc/R/bin/R CMD INSTALL BayesKnockdown StartedAt: 2024-10-16 15:49:56 -0400 (Wed, 16 Oct 2024) EndedAt: 2024-10-16 15:50:06 -0400 (Wed, 16 Oct 2024) EllapsedTime: 10.0 seconds RetCode: 0 Status: OK