Package: BiRewire Version: 3.36.0 Command: /home/biocbuild/R/R-beta-2024-04-15_r86425/bin/R CMD INSTALL BiRewire StartedAt: 2024-05-08 20:04:53 -0000 (Wed, 08 May 2024) EndedAt: 2024-05-08 20:05:11 -0000 (Wed, 08 May 2024) EllapsedTime: 18.3 seconds RetCode: 0 Status: OK