Package: BiRewire Version: 3.36.0 Command: chmod a+r BiRewire -R && F:\biocbuild\bbs-3.19-bioc\R\bin\R.exe CMD build --keep-empty-dirs --no-resave-data BiRewire StartedAt: 2024-06-26 17:28:50 -0400 (Wed, 26 Jun 2024) EndedAt: 2024-06-26 17:30:37 -0400 (Wed, 26 Jun 2024) EllapsedTime: 107.6 seconds RetCode: 0 Status: OK PackageFile: BiRewire_3.36.0.tar.gz PackageFileSize: 605.9 KiB