Package: BiRewire Version: 3.36.0 Command: E:\biocbuild\bbs-3.19-bioc\R\bin\R.exe CMD check --no-multiarch --install=check:BiRewire.install-out.txt --library=E:\biocbuild\bbs-3.19-bioc\R\library --no-vignettes --timings BiRewire_3.36.0.tar.gz StartedAt: 2024-10-16 23:24:05 -0400 (Wed, 16 Oct 2024) EndedAt: 2024-10-16 23:28:36 -0400 (Wed, 16 Oct 2024) EllapsedTime: 271.5 seconds RetCode: 0 Status: WARNINGS CheckDir: BiRewire.Rcheck Warnings: 1