Package: BicARE Version: 1.62.0 Command: /Library/Frameworks/R.framework/Resources/bin/R CMD build --keep-empty-dirs --no-resave-data BicARE StartedAt: 2024-06-09 15:56:52 -0400 (Sun, 09 Jun 2024) EndedAt: 2024-06-09 15:59:15 -0400 (Sun, 09 Jun 2024) EllapsedTime: 143.1 seconds RetCode: 0 Status: OK PackageFile: BicARE_1.62.0.tar.gz PackageFileSize: 459.5 KiB