Package: BicARE Version: 1.62.0 Command: /Library/Frameworks/R.framework/Resources/bin/R CMD build --keep-empty-dirs --no-resave-data BicARE StartedAt: 2024-10-16 17:20:27 -0400 (Wed, 16 Oct 2024) EndedAt: 2024-10-16 17:26:40 -0400 (Wed, 16 Oct 2024) EllapsedTime: 373.5 seconds RetCode: 0 Status: OK PackageFile: BicARE_1.62.0.tar.gz PackageFileSize: 460.2 KiB