Package: BioCartaImage Version: 1.2.0 Command: chmod a+r BioCartaImage -R && F:\biocbuild\bbs-3.19-bioc\R\bin\R.exe CMD build --keep-empty-dirs --no-resave-data BioCartaImage StartedAt: 2024-06-26 17:23:03 -0400 (Wed, 26 Jun 2024) EndedAt: 2024-06-26 17:23:32 -0400 (Wed, 26 Jun 2024) EllapsedTime: 28.3 seconds RetCode: 0 Status: OK PackageFile: BioCartaImage_1.2.0.tar.gz PackageFileSize: 3.628 MiB