Package: BioCor Version: 1.28.0 Command: E:\biocbuild\bbs-3.19-bioc\R\bin\R.exe CMD INSTALL BioCor StartedAt: 2024-10-16 16:21:20 -0400 (Wed, 16 Oct 2024) EndedAt: 2024-10-16 16:21:49 -0400 (Wed, 16 Oct 2024) EllapsedTime: 29.1 seconds RetCode: 0 Status: OK