Package: BioNAR Version: 1.6.3 Command: rm -rf BioNAR.buildbin-libdir && mkdir BioNAR.buildbin-libdir && /Users/biocbuild/BBS/utils/build-universal.sh BioNAR_1.6.3.tar.gz /Library/Frameworks/R.framework/Resources/bin/R BioNAR.buildbin-libdir StartedAt: 2024-10-18 17:32:04 -0400 (Fri, 18 Oct 2024) EndedAt: 2024-10-18 17:32:44 -0400 (Fri, 18 Oct 2024) EllapsedTime: 40.0 seconds RetCode: 0 Status: OK PackageFile: BioNAR_1.6.3.tgz PackageFileSize: 4.186 MiB